Package: ChAMP Version: 2.39.1 Command: /Library/Frameworks/R.framework/Resources/bin/R CMD INSTALL ChAMP StartedAt: 2025-10-14 15:57:16 -0400 (Tue, 14 Oct 2025) EndedAt: 2025-10-14 15:58:05 -0400 (Tue, 14 Oct 2025) EllapsedTime: 49.7 seconds RetCode: 0 Status: OK