Package: ChAMP Version: 2.39.1 Command: /Library/Frameworks/R.framework/Resources/bin/R CMD build --keep-empty-dirs --no-resave-data ChAMP StartedAt: 2025-10-17 16:25:28 -0400 (Fri, 17 Oct 2025) EndedAt: 2025-10-17 16:28:08 -0400 (Fri, 17 Oct 2025) EllapsedTime: 161.0 seconds RetCode: 0 Status: OK PackageFile: ChAMP_2.39.1.tar.gz PackageFileSize: 7.96 MiB