Package: ChAMP Version: 2.39.1 Command: /Library/Frameworks/R.framework/Resources/bin/R CMD INSTALL ChAMP StartedAt: 2025-10-02 15:34:46 -0400 (Thu, 02 Oct 2025) EndedAt: 2025-10-02 15:35:09 -0400 (Thu, 02 Oct 2025) EllapsedTime: 22.8 seconds RetCode: 0 Status: OK