Package: ChAMP Version: 2.39.1 Command: /Library/Frameworks/R.framework/Resources/bin/R CMD build --keep-empty-dirs --no-resave-data ChAMP StartedAt: 2025-10-02 15:52:57 -0400 (Thu, 02 Oct 2025) EndedAt: 2025-10-02 15:53:50 -0400 (Thu, 02 Oct 2025) EllapsedTime: 52.6 seconds RetCode: 0 Status: OK PackageFile: ChAMP_2.39.1.tar.gz PackageFileSize: 7.963 MiB