Package: ChAMP Version: 2.39.1 Command: rm -rf ChAMP.buildbin-libdir && mkdir ChAMP.buildbin-libdir && /Users/biocbuild/BBS/utils/build-universal.sh ChAMP_2.39.1.tar.gz /Library/Frameworks/R.framework/Resources/bin/R ChAMP.buildbin-libdir StartedAt: 2025-10-03 22:33:36 -0400 (Fri, 03 Oct 2025) EndedAt: 2025-10-03 22:34:09 -0400 (Fri, 03 Oct 2025) EllapsedTime: 32.8 seconds RetCode: 0 Status: OK PackageFile: ChAMP_2.39.1.tgz PackageFileSize: 4.197 MiB