Package: CexoR Version: 1.47.1 Command: /home/biocbuild/R/R/bin/R CMD INSTALL CexoR StartedAt: 2025-10-13 21:21:46 -0000 (Mon, 13 Oct 2025) EndedAt: 2025-10-13 21:22:31 -0000 (Mon, 13 Oct 2025) EllapsedTime: 44.4 seconds RetCode: 0 Status: OK