Package: CexoR Version: 1.47.1 Command: /home/biocbuild/R/R/bin/R CMD build --keep-empty-dirs --no-resave-data CexoR StartedAt: 2025-10-13 23:02:32 -0000 (Mon, 13 Oct 2025) EndedAt: 2025-10-13 23:03:50 -0000 (Mon, 13 Oct 2025) EllapsedTime: 78.0 seconds RetCode: 0 Status: OK PackageFile: CexoR_1.47.1.tar.gz PackageFileSize: 1.65 MiB