Package: CexoR Version: 1.47.1 Command: /home/biocbuild/bbs-3.22-bioc/R/bin/R CMD check --install=check:CexoR.install-out.txt --library=/home/biocbuild/bbs-3.22-bioc/R/site-library --timings CexoR_1.47.1.tar.gz StartedAt: 2025-10-20 21:56:08 -0400 (Mon, 20 Oct 2025) EndedAt: 2025-10-20 22:01:13 -0400 (Mon, 20 Oct 2025) EllapsedTime: 305.4 seconds RetCode: 0 Status: OK CheckDir: CexoR.Rcheck Warnings: 0