Package: CexoR Version: 1.49.0 Command: /home/biocbuild/bbs-3.23-bioc/R/bin/R CMD INSTALL CexoR StartedAt: 2025-11-05 15:45:07 -0500 (Wed, 05 Nov 2025) EndedAt: 2025-11-05 15:45:44 -0500 (Wed, 05 Nov 2025) EllapsedTime: 36.7 seconds RetCode: 0 Status: OK