Package: CexoR Version: 1.49.0 Command: /home/biocbuild/bbs-3.23-bioc/R/bin/R CMD build --keep-empty-dirs --no-resave-data CexoR StartedAt: 2025-11-05 16:49:36 -0500 (Wed, 05 Nov 2025) EndedAt: 2025-11-05 16:50:36 -0500 (Wed, 05 Nov 2025) EllapsedTime: 60.1 seconds RetCode: 0 Status: OK PackageFile: CexoR_1.49.0.tar.gz PackageFileSize: 1.66 MiB