Package: Cepo Version: 1.17.0 Command: /home/biocbuild/bbs-3.23-bioc/R/bin/R CMD build --keep-empty-dirs --no-resave-data Cepo StartedAt: 2025-11-06 16:41:09 -0500 (Thu, 06 Nov 2025) EndedAt: 2025-11-06 16:42:55 -0500 (Thu, 06 Nov 2025) EllapsedTime: 106.1 seconds RetCode: 0 Status: OK PackageFile: Cepo_1.17.0.tar.gz PackageFileSize: 3.222 MiB