Package: Cepo Version: 1.15.1 Command: /Library/Frameworks/R.framework/Resources/bin/R CMD INSTALL Cepo StartedAt: 2025-10-17 15:26:09 -0400 (Fri, 17 Oct 2025) EndedAt: 2025-10-17 15:26:58 -0400 (Fri, 17 Oct 2025) EllapsedTime: 49.2 seconds RetCode: 0 Status: OK