Package: Cepo Version: 1.15.1 Command: /Library/Frameworks/R.framework/Resources/bin/R CMD build --keep-empty-dirs --no-resave-data Cepo StartedAt: 2025-10-17 16:23:54 -0400 (Fri, 17 Oct 2025) EndedAt: 2025-10-17 16:26:02 -0400 (Fri, 17 Oct 2025) EllapsedTime: 128.0 seconds RetCode: 0 Status: OK PackageFile: Cepo_1.15.1.tar.gz PackageFileSize: 3.859 MiB