Package: Cepo Version: 1.15.1 Command: rm -rf Cepo.buildbin-libdir && mkdir Cepo.buildbin-libdir && /Users/biocbuild/BBS/utils/build-universal.sh Cepo_1.15.1.tar.gz /Library/Frameworks/R.framework/Resources/bin/R Cepo.buildbin-libdir StartedAt: 2025-10-18 02:49:23 -0400 (Sat, 18 Oct 2025) EndedAt: 2025-10-18 02:50:18 -0400 (Sat, 18 Oct 2025) EllapsedTime: 54.1 seconds RetCode: 0 Status: OK PackageFile: Cepo_1.15.1.tgz PackageFileSize: 3.897 MiB