Package: Cepo Version: 1.15.0 Command: /Library/Frameworks/R.framework/Resources/bin/R CMD INSTALL Cepo StartedAt: 2025-10-07 15:12:18 -0400 (Tue, 07 Oct 2025) EndedAt: 2025-10-07 15:12:33 -0400 (Tue, 07 Oct 2025) EllapsedTime: 14.8 seconds RetCode: 0 Status: OK