Package: Cepo Version: 1.15.0 Command: /Library/Frameworks/R.framework/Resources/bin/R CMD build --keep-empty-dirs --no-resave-data Cepo StartedAt: 2025-10-07 15:52:43 -0400 (Tue, 07 Oct 2025) EndedAt: 2025-10-07 15:53:28 -0400 (Tue, 07 Oct 2025) EllapsedTime: 45.5 seconds RetCode: 0 Status: OK PackageFile: Cepo_1.15.0.tar.gz PackageFileSize: 3.869 MiB