Package: Cepo Version: 1.15.0 Command: rm -rf Cepo.buildbin-libdir && mkdir Cepo.buildbin-libdir && /Users/biocbuild/BBS/utils/build-universal.sh Cepo_1.15.0.tar.gz /Library/Frameworks/R.framework/Resources/bin/R Cepo.buildbin-libdir StartedAt: 2025-10-07 22:39:28 -0400 (Tue, 07 Oct 2025) EndedAt: 2025-10-07 22:39:44 -0400 (Tue, 07 Oct 2025) EllapsedTime: 16.3 seconds RetCode: 0 Status: OK PackageFile: Cepo_1.15.0.tgz PackageFileSize: 3.906 MiB