Package: CelliD Version: 1.17.0 Command: /Library/Frameworks/R.framework/Resources/bin/R CMD INSTALL CelliD StartedAt: 2025-10-12 15:49:53 -0400 (Sun, 12 Oct 2025) EndedAt: 2025-10-12 15:51:25 -0400 (Sun, 12 Oct 2025) EllapsedTime: 91.6 seconds RetCode: 0 Status: OK