Package: CelliD Version: 1.17.0 Command: /Library/Frameworks/R.framework/Resources/bin/R CMD build --keep-empty-dirs --no-resave-data CelliD StartedAt: 2025-10-12 16:21:20 -0400 (Sun, 12 Oct 2025) EndedAt: 2025-10-12 16:32:59 -0400 (Sun, 12 Oct 2025) EllapsedTime: 699.1 seconds RetCode: 0 Status: OK PackageFile: CelliD_1.17.0.tar.gz PackageFileSize: 2.595 MiB