Package: CellTrails Version: 1.27.0 Command: chmod a+r CellTrails -R && F:\biocbuild\bbs-3.22-bioc\R\bin\R.exe CMD build --keep-empty-dirs --no-resave-data CellTrails StartedAt: 2025-08-14 19:00:59 -0400 (Thu, 14 Aug 2025) EndedAt: 2025-08-14 19:02:28 -0400 (Thu, 14 Aug 2025) EllapsedTime: 89.8 seconds RetCode: 0 Status: OK PackageFile: CellTrails_1.27.0.tar.gz PackageFileSize: 2.629 MiB