Package: CellTrails Version: 1.27.0 Command: rm -rf CellTrails.buildbin-libdir && mkdir CellTrails.buildbin-libdir && F:\biocbuild\bbs-3.22-bioc\R\bin\R.exe CMD INSTALL --build --library=CellTrails.buildbin-libdir CellTrails_1.27.0.tar.gz StartedAt: 2025-08-15 09:55:43 -0400 (Fri, 15 Aug 2025) EndedAt: 2025-08-15 09:57:48 -0400 (Fri, 15 Aug 2025) EllapsedTime: 125.7 seconds RetCode: 0 Status: OK PackageFile: CellTrails_1.27.0.zip PackageFileSize: 3.015 MiB