Package: CellTrails Version: 1.29.0 Command: /home/biocbuild/bbs-3.23-bioc/R/bin/R CMD INSTALL CellTrails StartedAt: 2025-10-31 15:26:45 -0400 (Fri, 31 Oct 2025) EndedAt: 2025-10-31 15:27:15 -0400 (Fri, 31 Oct 2025) EllapsedTime: 29.4 seconds RetCode: 0 Status: OK