Package: CellTrails Version: 1.29.0 Command: /home/biocbuild/bbs-3.23-bioc/R/bin/R CMD check --install=check:CellTrails.install-out.txt --library=/home/biocbuild/bbs-3.23-bioc/R/site-library --timings CellTrails_1.29.0.tar.gz StartedAt: 2025-10-31 21:51:21 -0400 (Fri, 31 Oct 2025) EndedAt: 2025-10-31 21:55:34 -0400 (Fri, 31 Oct 2025) EllapsedTime: 253.3 seconds RetCode: 0 Status: OK CheckDir: CellTrails.Rcheck Warnings: 0