Package: CellScore Version: 1.29.1 Command: /home/biocbuild/bbs-3.23-bioc/R/bin/R CMD INSTALL CellScore StartedAt: 2025-10-22 21:13:37 -0000 (Wed, 22 Oct 2025) EndedAt: 2025-10-22 21:13:58 -0000 (Wed, 22 Oct 2025) EllapsedTime: 21.5 seconds RetCode: 0 Status: OK