Package: CellScore Version: 1.29.1 Command: /home/biocbuild/bbs-3.23-bioc/R/bin/R CMD build --keep-empty-dirs --no-resave-data CellScore StartedAt: 2025-10-22 22:22:02 -0000 (Wed, 22 Oct 2025) EndedAt: 2025-10-22 22:22:29 -0000 (Wed, 22 Oct 2025) EllapsedTime: 27.0 seconds RetCode: 1 Status: ERROR PackageFile: None PackageFileSize: NA