Package: CellNOptR Version: 1.55.0 Command: chmod a+r CellNOptR -R && F:\biocbuild\bbs-3.22-bioc\R\bin\R.exe CMD build --keep-empty-dirs --no-resave-data CellNOptR StartedAt: 2025-08-14 19:00:34 -0400 (Thu, 14 Aug 2025) EndedAt: 2025-08-14 19:02:00 -0400 (Thu, 14 Aug 2025) EllapsedTime: 86.5 seconds RetCode: 0 Status: OK PackageFile: CellNOptR_1.55.0.tar.gz PackageFileSize: 3.262 MiB