Package: CellNOptR Version: 1.55.0 Command: rm -rf CellNOptR.buildbin-libdir && mkdir CellNOptR.buildbin-libdir && F:\biocbuild\bbs-3.22-bioc\R\bin\R.exe CMD INSTALL --build --library=CellNOptR.buildbin-libdir CellNOptR_1.55.0.tar.gz StartedAt: 2025-08-15 09:55:39 -0400 (Fri, 15 Aug 2025) EndedAt: 2025-08-15 09:57:03 -0400 (Fri, 15 Aug 2025) EllapsedTime: 83.4 seconds RetCode: 0 Status: OK PackageFile: CellNOptR_1.55.0.zip PackageFileSize: 2.562 MiB