Package: CellNOptR Version: 1.55.0 Command: /home/biocbuild/bbs-3.22-bioc/R/bin/R CMD check --install=check:CellNOptR.install-out.txt --library=/home/biocbuild/bbs-3.22-bioc/R/site-library --timings CellNOptR_1.55.0.tar.gz StartedAt: 2025-09-30 22:00:50 -0400 (Tue, 30 Sep 2025) EndedAt: 2025-09-30 22:03:53 -0400 (Tue, 30 Sep 2025) EllapsedTime: 183.2 seconds RetCode: 0 Status: OK CheckDir: CellNOptR.Rcheck Warnings: 0