Package: CellNOptR Version: 1.57.0 Command: /home/biocbuild/bbs-3.23-bioc/R/bin/R CMD INSTALL CellNOptR StartedAt: 2025-11-20 15:14:20 -0500 (Thu, 20 Nov 2025) EndedAt: 2025-11-20 15:14:36 -0500 (Thu, 20 Nov 2025) EllapsedTime: 15.5 seconds RetCode: 0 Status: OK