Package: CellNOptR Version: 1.57.0 Command: /home/biocbuild/bbs-3.23-bioc/R/bin/R CMD check --install=check:CellNOptR.install-out.txt --library=/home/biocbuild/bbs-3.23-bioc/R/site-library --timings CellNOptR_1.57.0.tar.gz StartedAt: 2025-11-20 21:54:13 -0500 (Thu, 20 Nov 2025) EndedAt: 2025-11-20 21:56:16 -0500 (Thu, 20 Nov 2025) EllapsedTime: 123.1 seconds RetCode: 0 Status: OK CheckDir: CellNOptR.Rcheck Warnings: 0