Package: CellNOptR Version: 1.57.0 Command: /home/biocbuild/bbs-3.23-bioc/R/bin/R CMD build --keep-empty-dirs --no-resave-data CellNOptR StartedAt: 2025-11-20 16:42:31 -0500 (Thu, 20 Nov 2025) EndedAt: 2025-11-20 16:42:58 -0500 (Thu, 20 Nov 2025) EllapsedTime: 27.0 seconds RetCode: 0 Status: OK PackageFile: CellNOptR_1.57.0.tar.gz PackageFileSize: 3.537 MiB