Package: CellMixS Version: 1.25.0 Command: /home/biocbuild/R/R/bin/R CMD INSTALL CellMixS StartedAt: 2025-10-09 22:07:56 -0000 (Thu, 09 Oct 2025) EndedAt: 2025-10-09 22:08:31 -0000 (Thu, 09 Oct 2025) EllapsedTime: 34.6 seconds RetCode: 0 Status: OK