Package: CellMixS Version: 1.25.0 Command: /home/biocbuild/R/R/bin/R CMD build --keep-empty-dirs --no-resave-data CellMixS StartedAt: 2025-10-09 23:23:01 -0000 (Thu, 09 Oct 2025) EndedAt: 2025-10-09 23:26:53 -0000 (Thu, 09 Oct 2025) EllapsedTime: 232.1 seconds RetCode: 0 Status: OK PackageFile: CellMixS_1.25.0.tar.gz PackageFileSize: 2.837 MiB