Package: CellMixS Version: 1.27.0 Command: /home/biocbuild/bbs-3.23-bioc/R/bin/R CMD INSTALL CellMixS StartedAt: 2025-11-05 16:02:26 -0500 (Wed, 05 Nov 2025) EndedAt: 2025-11-05 16:02:53 -0500 (Wed, 05 Nov 2025) EllapsedTime: 27.0 seconds RetCode: 0 Status: OK