Package: CellMixS Version: 1.27.0 Command: /home/biocbuild/bbs-3.23-bioc/R/bin/R CMD check --install=check:CellMixS.install-out.txt --library=/home/biocbuild/bbs-3.23-bioc/R/site-library --timings CellMixS_1.27.0.tar.gz StartedAt: 2025-11-06 21:41:45 -0500 (Thu, 06 Nov 2025) EndedAt: 2025-11-06 21:48:00 -0500 (Thu, 06 Nov 2025) EllapsedTime: 375.5 seconds RetCode: 0 Status: OK CheckDir: CellMixS.Rcheck Warnings: 0