Package: CellMixS Version: 1.27.0 Command: /home/biocbuild/bbs-3.23-bioc/R/bin/R CMD build --keep-empty-dirs --no-resave-data CellMixS StartedAt: 2025-11-05 16:47:19 -0500 (Wed, 05 Nov 2025) EndedAt: 2025-11-05 16:50:04 -0500 (Wed, 05 Nov 2025) EllapsedTime: 165.1 seconds RetCode: 0 Status: OK PackageFile: CellMixS_1.27.0.tar.gz PackageFileSize: 3.908 MiB