Package: CellMapper Version: 1.37.0 Command: /home/biocbuild/bbs-3.23-bioc/R/bin/R CMD build --keep-empty-dirs --no-resave-data CellMapper StartedAt: 2025-11-20 16:41:21 -0500 (Thu, 20 Nov 2025) EndedAt: 2025-11-20 16:43:01 -0500 (Thu, 20 Nov 2025) EllapsedTime: 100.1 seconds RetCode: 0 Status: OK PackageFile: CellMapper_1.37.0.tar.gz PackageFileSize: 205.7 KiB