Package: CellMapper Version: 1.35.0 Command: /Library/Frameworks/R.framework/Resources/bin/R CMD check --install=check:CellMapper.install-out.txt --library=/Library/Frameworks/R.framework/Resources/library --no-vignettes --timings CellMapper_1.35.0.tar.gz StartedAt: 2025-10-14 19:15:48 -0400 (Tue, 14 Oct 2025) EndedAt: 2025-10-14 19:17:00 -0400 (Tue, 14 Oct 2025) EllapsedTime: 71.9 seconds RetCode: 0 Status: WARNINGS CheckDir: CellMapper.Rcheck Warnings: 1