Package: CellBench Version: 1.27.0 Command: /home/biocbuild/bbs-3.23-bioc/R/bin/R CMD INSTALL CellBench StartedAt: 2025-11-20 15:57:24 -0500 (Thu, 20 Nov 2025) EndedAt: 2025-11-20 15:57:51 -0500 (Thu, 20 Nov 2025) EllapsedTime: 27.3 seconds RetCode: 0 Status: OK