Package: CellBench Version: 1.27.0 Command: /home/biocbuild/bbs-3.23-bioc/R/bin/R CMD check --install=check:CellBench.install-out.txt --library=/home/biocbuild/bbs-3.23-bioc/R/site-library --timings CellBench_1.27.0.tar.gz StartedAt: 2025-11-20 21:51:51 -0500 (Thu, 20 Nov 2025) EndedAt: 2025-11-20 21:56:24 -0500 (Thu, 20 Nov 2025) EllapsedTime: 273.3 seconds RetCode: 0 Status: OK CheckDir: CellBench.Rcheck Warnings: 0