Package: CellBarcode Version: 1.15.0 Command: /home/biocbuild/R/R/bin/R CMD build --keep-empty-dirs --no-resave-data CellBarcode StartedAt: 2025-10-13 22:57:01 -0000 (Mon, 13 Oct 2025) EndedAt: 2025-10-13 22:59:15 -0000 (Mon, 13 Oct 2025) EllapsedTime: 134.1 seconds RetCode: 0 Status: OK PackageFile: CellBarcode_1.15.0.tar.gz PackageFileSize: 2.654 MiB