Package: CellBarcode Version: 1.15.0 Command: /home/biocbuild/bbs-3.22-bioc/R/bin/R CMD check --install=check:CellBarcode.install-out.txt --library=/home/biocbuild/bbs-3.22-bioc/R/site-library --timings CellBarcode_1.15.0.tar.gz StartedAt: 2025-10-10 22:12:16 -0400 (Fri, 10 Oct 2025) EndedAt: 2025-10-10 22:18:36 -0400 (Fri, 10 Oct 2025) EllapsedTime: 380.7 seconds RetCode: 0 Status: OK CheckDir: CellBarcode.Rcheck Warnings: 0