Package: CellBarcode Version: 1.17.0 Command: /home/biocbuild/bbs-3.23-bioc/R/bin/R CMD INSTALL CellBarcode StartedAt: 2025-11-04 15:50:16 -0500 (Tue, 04 Nov 2025) EndedAt: 2025-11-04 15:51:18 -0500 (Tue, 04 Nov 2025) EllapsedTime: 62.5 seconds RetCode: 0 Status: OK