Package: CellBarcode Version: 1.17.0 Command: /home/biocbuild/bbs-3.23-bioc/R/bin/R CMD build --keep-empty-dirs --no-resave-data CellBarcode StartedAt: 2025-11-04 16:37:37 -0500 (Tue, 04 Nov 2025) EndedAt: 2025-11-04 16:39:11 -0500 (Tue, 04 Nov 2025) EllapsedTime: 94.0 seconds RetCode: 0 Status: OK PackageFile: CellBarcode_1.17.0.tar.gz PackageFileSize: 3.174 MiB