Package: CeTF Version: 1.23.0 Command: /home/biocbuild/bbs-3.23-bioc/R/bin/R CMD INSTALL CeTF StartedAt: 2025-11-20 15:47:08 -0500 (Thu, 20 Nov 2025) EndedAt: 2025-11-20 15:48:08 -0500 (Thu, 20 Nov 2025) EllapsedTime: 59.7 seconds RetCode: 0 Status: OK