Package: CeTF Version: 1.23.0 Command: /home/biocbuild/bbs-3.23-bioc/R/bin/R CMD build --keep-empty-dirs --no-resave-data CeTF StartedAt: 2025-11-20 16:44:35 -0500 (Thu, 20 Nov 2025) EndedAt: 2025-11-20 16:47:21 -0500 (Thu, 20 Nov 2025) EllapsedTime: 166.2 seconds RetCode: 0 Status: OK PackageFile: CeTF_1.23.0.tar.gz PackageFileSize: 3.835 MiB