Package: CeTF Version: 1.21.0 Command: /Library/Frameworks/R.framework/Resources/bin/R CMD INSTALL CeTF StartedAt: 2025-10-05 15:41:44 -0400 (Sun, 05 Oct 2025) EndedAt: 2025-10-05 15:43:02 -0400 (Sun, 05 Oct 2025) EllapsedTime: 77.8 seconds RetCode: 0 Status: OK