Package: CeTF Version: 1.21.0 Command: rm -rf CeTF.buildbin-libdir && mkdir CeTF.buildbin-libdir && /Users/biocbuild/BBS/utils/build-universal.sh CeTF_1.21.0.tar.gz /Library/Frameworks/R.framework/Resources/bin/R CeTF.buildbin-libdir StartedAt: 2025-10-06 01:52:25 -0400 (Mon, 06 Oct 2025) EndedAt: 2025-10-06 01:53:48 -0400 (Mon, 06 Oct 2025) EllapsedTime: 83.1 seconds RetCode: 0 Status: OK PackageFile: CeTF_1.21.0.tgz PackageFileSize: 4.228 MiB