Package: CeTF Version: 1.21.0 Maintainer: Carlos Alberto Oliveira de Biagi Junior MaintainerEmail: cbiagijr at gmail.com git_url: https://git.bioconductor.org/packages/CeTF git_branch: devel git_last_commit: 1112503 git_last_commit_date: 2025-04-15 11:53:11 -0400 (Tue, 15 Apr 2025)