Package: CausalR Version: 1.43.0 Command: /home/biocbuild/bbs-3.23-bioc/R/bin/R CMD INSTALL CausalR StartedAt: 2025-10-31 15:13:30 -0400 (Fri, 31 Oct 2025) EndedAt: 2025-10-31 15:13:36 -0400 (Fri, 31 Oct 2025) EllapsedTime: 5.9 seconds RetCode: 0 Status: OK